BEGIN:VCALENDAR
VERSION:2.0
PRODID:-//India Arkin - ECPv6.15.20//NONSGML v1.0//EN
CALSCALE:GREGORIAN
METHOD:PUBLISH
X-WR-CALNAME:India Arkin
X-ORIGINAL-URL:https://indiaarkin.com
X-WR-CALDESC:Events for India Arkin
REFRESH-INTERVAL;VALUE=DURATION:PT1H
X-Robots-Tag:noindex
X-PUBLISHED-TTL:PT1H
BEGIN:VTIMEZONE
TZID:Europe/London
BEGIN:DAYLIGHT
TZOFFSETFROM:+0000
TZOFFSETTO:+0100
TZNAME:BST
DTSTART:20250330T010000
END:DAYLIGHT
BEGIN:STANDARD
TZOFFSETFROM:+0100
TZOFFSETTO:+0000
TZNAME:GMT
DTSTART:20251026T010000
END:STANDARD
BEGIN:DAYLIGHT
TZOFFSETFROM:+0000
TZOFFSETTO:+0100
TZNAME:BST
DTSTART:20260329T010000
END:DAYLIGHT
BEGIN:STANDARD
TZOFFSETFROM:+0100
TZOFFSETTO:+0000
TZNAME:GMT
DTSTART:20261025T010000
END:STANDARD
BEGIN:DAYLIGHT
TZOFFSETFROM:+0000
TZOFFSETTO:+0100
TZNAME:BST
DTSTART:20270328T010000
END:DAYLIGHT
BEGIN:STANDARD
TZOFFSETFROM:+0100
TZOFFSETTO:+0000
TZNAME:GMT
DTSTART:20271031T010000
END:STANDARD
END:VTIMEZONE
BEGIN:VEVENT
DTSTART;TZID=Europe/London:20260705T100000
DTEND;TZID=Europe/London:20260705T143000
DTSTAMP:20260425T222532
CREATED:20260402T144158Z
LAST-MODIFIED:20260402T145953Z
UID:8945-1783245600-1783261800@indiaarkin.com
SUMMARY:Vegan Market Cheltenham
DESCRIPTION:India Arkin is bringing heartfelt original music to Vegan Market Cheltenham\, this live acoustic set blends soulful vocals\, honest song writing\, and stripped-back melodies perfect for a vibrant community atmosphere. \nPerforming a mix of original songs and carefully selected covers\, the set creates the perfect soundtrack to a day of plant-based food\, ethical shopping\, and sustainable living. Expect warm acoustic tones\, powerful vocals\, and feel-good energy that complements the market’s conscious\, creative spirit. \nWhether you’re browsing artisan stalls or enjoying street food in the sun\, this live performance adds an intimate and uplifting soundtrack to the day. \n🎶 Live acoustic music | Singer-songwriter | Soulful originals📍 Vegan Market Cheltenham🌱 Community vibes | Conscious living | Independent artists
URL:https://indiaarkin.com/event/vegan-market-cheltenham/
CATEGORIES:Live Music
ATTACH;FMTTYPE=image/jpeg:https://indiaarkin.com/wp-content/uploads/2024/01/India-Arkin-Artist-Promo-Photo-scaled.jpg
END:VEVENT
END:VCALENDAR