BEGIN:VCALENDAR
VERSION:2.0
PRODID:-//India Arkin - ECPv6.15.20//NONSGML v1.0//EN
CALSCALE:GREGORIAN
METHOD:PUBLISH
X-WR-CALNAME:India Arkin
X-ORIGINAL-URL:https://indiaarkin.com
X-WR-CALDESC:Events for India Arkin
REFRESH-INTERVAL;VALUE=DURATION:PT1H
X-Robots-Tag:noindex
X-PUBLISHED-TTL:PT1H
BEGIN:VTIMEZONE
TZID:Europe/London
BEGIN:DAYLIGHT
TZOFFSETFROM:+0000
TZOFFSETTO:+0100
TZNAME:BST
DTSTART:20250330T010000
END:DAYLIGHT
BEGIN:STANDARD
TZOFFSETFROM:+0100
TZOFFSETTO:+0000
TZNAME:GMT
DTSTART:20251026T010000
END:STANDARD
BEGIN:DAYLIGHT
TZOFFSETFROM:+0000
TZOFFSETTO:+0100
TZNAME:BST
DTSTART:20260329T010000
END:DAYLIGHT
BEGIN:STANDARD
TZOFFSETFROM:+0100
TZOFFSETTO:+0000
TZNAME:GMT
DTSTART:20261025T010000
END:STANDARD
BEGIN:DAYLIGHT
TZOFFSETFROM:+0000
TZOFFSETTO:+0100
TZNAME:BST
DTSTART:20270328T010000
END:DAYLIGHT
BEGIN:STANDARD
TZOFFSETFROM:+0100
TZOFFSETTO:+0000
TZNAME:GMT
DTSTART:20271031T010000
END:STANDARD
END:VTIMEZONE
BEGIN:VEVENT
DTSTART;TZID=Europe/London:20260607T190000
DTEND;TZID=Europe/London:20260607T223000
DTSTAMP:20260425T205103
CREATED:20260402T141352Z
LAST-MODIFIED:20260411T120737Z
UID:8930-1780858800-1780871400@indiaarkin.com
SUMMARY:SUMMER TOUR: DURHAM
DESCRIPTION:British-Cypriot indie artist India Arkin brings a spellbinding\, intimate live show to stages this June\, performing solo for a special run of headline dates across the UK – catch her in her playing at Claypath Deli in Durham. \nBlending ethereal indie-rock with subtle Middle Eastern and Japanese influences\, her sound is both delicate and commanding — drawing comparisons to Alice Phoebe Lou\, Billie Marten\, and Men I Trust. Stripped back to its core\, Arkin’s solo set puts her voice and song-writing front and centre: raw\, atmospheric\, and impossible to ignore. \nWith backing from BBC Introducing and Tom Robinson’s Mixtape\, and a live résumé that includes supporting Tom Grennan and The Feeling\, plus standout performances at Bingley Weekender and Rotterdam’s Left of the Dial\, Arkin has built a reputation as one of the UK’s most compelling emerging voices. \nThese new shows mark a turning point — a more personal\, immersive experience that leans into vulnerability\, space\, and connection. Expect haunting melodies\, quiet intensity\, and moments that hold a room completely still. \nSupport acts TBA.
URL:https://indiaarkin.com/event/summer-tour-durham/
CATEGORIES:Live Music
ATTACH;FMTTYPE=image/jpeg:https://indiaarkin.com/wp-content/uploads/2026/04/1-scaled.jpg
END:VEVENT
BEGIN:VEVENT
DTSTART;TZID=Europe/London:20260610T193000
DTEND;TZID=Europe/London:20260610T230000
DTSTAMP:20260425T205103
CREATED:20260402T141537Z
LAST-MODIFIED:20260411T115807Z
UID:8932-1781119800-1781132400@indiaarkin.com
SUMMARY:SUMMER TOUR: LEEDS
DESCRIPTION:British-Cypriot indie artist India Arkin brings a spellbinding\, intimate live show to stages this June\, performing solo for a special run of headline dates across the UK – catch her playing at Northern Guitars in Leeds. \nBlending ethereal indie-rock with subtle Middle Eastern and Japanese influences\, her sound is both delicate and commanding — drawing comparisons to Alice Phoebe Lou\, Billie Marten\, and Men I Trust. Stripped back to its core\, Arkin’s solo set puts her voice and song-writing front and centre: raw\, atmospheric\, and impossible to ignore. \nWith backing from BBC Introducing and Tom Robinson’s Mixtape\, and a live résumé that includes supporting Tom Grennan and The Feeling\, plus standout performances at Bingley Weekender and Rotterdam’s Left of the Dial\, Arkin has built a reputation as one of the UK’s most compelling emerging voices. \nThese new shows mark a turning point — a more personal\, immersive experience that leans into vulnerability\, space\, and connection. Expect haunting melodies\, quiet intensity\, and moments that hold a room completely still. \nSupport acts TBA / FREE ENTRY
URL:https://indiaarkin.com/event/summer-tour-india-arkin/
CATEGORIES:Live Music
ATTACH;FMTTYPE=image/jpeg:https://indiaarkin.com/wp-content/uploads/2026/04/1-scaled.jpg
END:VEVENT
BEGIN:VEVENT
DTSTART;TZID=Europe/London:20260612T193000
DTEND;TZID=Europe/London:20260612T230000
DTSTAMP:20260425T205103
CREATED:20260402T141831Z
LAST-MODIFIED:20260411T115523Z
UID:8934-1781292600-1781305200@indiaarkin.com
SUMMARY:SUMMER TOUR: BLACKPOOL
DESCRIPTION:British-Cypriot indie artist India Arkin brings a spellbinding\, intimate live show to stages this June\, performing solo for a special run of headline dates across the UK – catch her in playing at Bootleg Social in Blackpool! \nBlending ethereal indie-rock with subtle Middle Eastern and Japanese influences\, her sound is both delicate and commanding — drawing comparisons to Alice Phoebe Lou\, Billie Marten\, and Men I Trust. Stripped back to its core\, Arkin’s solo set puts her voice and song-writing front and centre: raw\, atmospheric\, and impossible to ignore. \nWith backing from BBC Introducing and Tom Robinson’s Mixtape\, and a live résumé that includes supporting Tom Grennan and The Feeling\, plus standout performances at Bingley Weekender and Rotterdam’s Left of the Dial\, Arkin has built a reputation as one of the UK’s most compelling emerging voices. \nThese new shows mark a turning point — a more personal\, immersive experience that leans into vulnerability\, space\, and connection. Expect haunting melodies\, quiet intensity\, and moments that hold a room completely still. \nSupport acts TBA.
URL:https://indiaarkin.com/event/summer-tour-blackpool/
LOCATION:Bootleg Social Club\, 30 Topping St\, Blackpool\, FY1 3AQ
CATEGORIES:Live Music
ATTACH;FMTTYPE=image/jpeg:https://indiaarkin.com/wp-content/uploads/2026/04/1-scaled.jpg
END:VEVENT
BEGIN:VEVENT
DTSTART;TZID=Europe/London:20260617T193000
DTEND;TZID=Europe/London:20260617T230000
DTSTAMP:20260425T205103
CREATED:20260402T142029Z
LAST-MODIFIED:20260411T115649Z
UID:8936-1781724600-1781737200@indiaarkin.com
SUMMARY:SUMMER TOUR: NOTTINGHAM
DESCRIPTION:British-Cypriot indie artist India Arkin brings a spellbinding\, intimate live show to stages this June\, performing solo for a special run of headline dates across the UK – catch her playing The Grove\, in Nottingham. \nBlending ethereal indie-rock with subtle Middle Eastern and Japanese influences\, her sound is both delicate and commanding — drawing comparisons to Alice Phoebe Lou\, Billie Marten\, and Men I Trust. Stripped back to its core\, Arkin’s solo set puts her voice and song-writing front and centre: raw\, atmospheric\, and impossible to ignore. \nWith backing from BBC Introducing and Tom Robinson’s Mixtape\, and a live résumé that includes supporting Tom Grennan and The Feeling\, plus standout performances at Bingley Weekender and Rotterdam’s Left of the Dial\, Arkin has built a reputation as one of the UK’s most compelling emerging voices. \nThese new shows mark a turning point — a more personal\, immersive experience that leans into vulnerability\, space\, and connection. Expect haunting melodies\, quiet intensity\, and moments that hold a room completely still. \nSupport acts TBA.
URL:https://indiaarkin.com/event/summer-tour-nottingham/
CATEGORIES:Live Music
ATTACH;FMTTYPE=image/jpeg:https://indiaarkin.com/wp-content/uploads/2026/04/1-scaled.jpg
END:VEVENT
BEGIN:VEVENT
DTSTART;TZID=Europe/London:20260625T190000
DTEND;TZID=Europe/London:20260625T230000
DTSTAMP:20260425T205103
CREATED:20260414T155626Z
LAST-MODIFIED:20260414T155734Z
UID:8967-1782414000-1782428400@indiaarkin.com
SUMMARY:SUMMER TOUR: BRISTOL
DESCRIPTION:British-Cypriot indie artist India Arkin brings a spellbinding\, intimate live show to stages this June\, performing solo for a special run of headline dates across the UK – catch her playing Bristol Folk House\, in Bristol. \nBlending ethereal indie-rock with subtle Middle Eastern and Japanese influences\, her sound is both delicate and commanding — drawing comparisons to Alice Phoebe Lou\, Billie Marten\, and Men I Trust. Stripped back to its core\, Arkin’s solo set puts her voice and song-writing front and centre: raw\, atmospheric\, and impossible to ignore. \nWith backing from BBC Introducing and Tom Robinson’s Mixtape\, and a live résumé that includes supporting Tom Grennan and The Feeling\, plus standout performances at Bingley Weekender and Rotterdam’s Left of the Dial\, Arkin has built a reputation as one of the UK’s most compelling emerging voices. \nThese new shows mark a turning point — a more personal\, immersive experience that leans into vulnerability\, space\, and connection. Expect haunting melodies\, quiet intensity\, and moments that hold a room completely still. \nSupport acts TBA.
URL:https://indiaarkin.com/event/summer-tour-bristol/
CATEGORIES:Live Music
ATTACH;FMTTYPE=image/jpeg:https://indiaarkin.com/wp-content/uploads/2026/04/1-scaled.jpg
END:VEVENT
END:VCALENDAR