BEGIN:VCALENDAR
VERSION:2.0
PRODID:-//India Arkin - ECPv6.15.20//NONSGML v1.0//EN
CALSCALE:GREGORIAN
METHOD:PUBLISH
X-WR-CALNAME:India Arkin
X-ORIGINAL-URL:https://indiaarkin.com
X-WR-CALDESC:Events for India Arkin
REFRESH-INTERVAL;VALUE=DURATION:PT1H
X-Robots-Tag:noindex
X-PUBLISHED-TTL:PT1H
BEGIN:VTIMEZONE
TZID:Europe/London
BEGIN:DAYLIGHT
TZOFFSETFROM:+0000
TZOFFSETTO:+0100
TZNAME:BST
DTSTART:20250330T010000
END:DAYLIGHT
BEGIN:STANDARD
TZOFFSETFROM:+0100
TZOFFSETTO:+0000
TZNAME:GMT
DTSTART:20251026T010000
END:STANDARD
BEGIN:DAYLIGHT
TZOFFSETFROM:+0000
TZOFFSETTO:+0100
TZNAME:BST
DTSTART:20260329T010000
END:DAYLIGHT
BEGIN:STANDARD
TZOFFSETFROM:+0100
TZOFFSETTO:+0000
TZNAME:GMT
DTSTART:20261025T010000
END:STANDARD
BEGIN:DAYLIGHT
TZOFFSETFROM:+0000
TZOFFSETTO:+0100
TZNAME:BST
DTSTART:20270328T010000
END:DAYLIGHT
BEGIN:STANDARD
TZOFFSETFROM:+0100
TZOFFSETTO:+0000
TZNAME:GMT
DTSTART:20271031T010000
END:STANDARD
END:VTIMEZONE
BEGIN:VEVENT
DTSTART;TZID=Europe/London:20260502T190000
DTEND;TZID=Europe/London:20260502T200000
DTSTAMP:20260425T191753
CREATED:20260402T143849Z
LAST-MODIFIED:20260402T150203Z
UID:8941-1777748400-1777752000@indiaarkin.com
SUMMARY:The Crafty Egg
DESCRIPTION:British-Cypriot artist India Arkin brings her intimate solo show to Crafty Egg\, Bristol this May. \nBlending ethereal indie-rock with delicate Middle Eastern and Japanese influences\, her sound is both soft and powerful — drawing comparisons to Alice Phoebe Lou\, Billie Marten\, and Men I Trust. Stripped back to just voice and guitar\, this special performance offers a rare\, up-close experience of her songwriting in its purest form. \nWith support from BBC Introducing and Tom Robinson’s Mixtape\, and past shows alongside Tom Grennan and The Feeling\, Arkin has built a reputation for captivating live sets that hold a room in silence. \nExpect haunting melodies\, raw emotion\, and a quietly immersive atmosphere in one of Bristol’s most unique intimate venues. \nSupport acts TBA.
URL:https://indiaarkin.com/event/the-crafty-egg/
CATEGORIES:Live Music
ATTACH;FMTTYPE=image/jpeg:https://indiaarkin.com/wp-content/uploads/2024/05/2024.05.09-India-Arkin-Jack-Geddes-Media-1-scaled.jpg
END:VEVENT
END:VCALENDAR